BEGIN:VCALENDAR
VERSION:2.0
PRODID:-//Yuma Metropolitan Planning Organization - ECPv6.15.20//NONSGML v1.0//EN
CALSCALE:GREGORIAN
METHOD:PUBLISH
X-WR-CALNAME:Yuma Metropolitan Planning Organization
X-ORIGINAL-URL:https://ympo.org/wp
X-WR-CALDESC:Events for Yuma Metropolitan Planning Organization
REFRESH-INTERVAL;VALUE=DURATION:PT1H
X-Robots-Tag:noindex
X-PUBLISHED-TTL:PT1H
BEGIN:VTIMEZONE
TZID:America/Phoenix
BEGIN:STANDARD
TZOFFSETFROM:-0700
TZOFFSETTO:-0700
TZNAME:MST
DTSTART:20250101T000000
END:STANDARD
END:VTIMEZONE
BEGIN:VEVENT
DTSTART;TZID=America/Phoenix:20260928T000000
DTEND;TZID=America/Phoenix:20261001T235959
DTSTAMP:20260422T022729
CREATED:20260205T235758Z
LAST-MODIFIED:20260205T235758Z
UID:4340-1790553600-1790899199@ympo.org
SUMMARY:YMPO Open 7:00am - 5:30pm
DESCRIPTION:
URL:https://ympo.org/wp/event/ympo-open-700am-530pm-39/
LOCATION:Yuma Metropolitan Planning Organization\, 230 W. Morrison Street\, Yuma\, AZ\, 85364\, United States
CATEGORIES:Operating Hours
END:VEVENT
BEGIN:VEVENT
DTSTART;TZID=America/Phoenix:20261002T000000
DTEND;TZID=America/Phoenix:20261002T235959
DTSTAMP:20260422T022729
CREATED:20260121T182434Z
LAST-MODIFIED:20260206T001527Z
UID:4146-1790899200-1790985599@ympo.org
SUMMARY:YMPO Closed
DESCRIPTION:
URL:https://ympo.org/wp/event/ympo-closed-40/
LOCATION:Yuma Metropolitan Planning Organization\, 230 W. Morrison Street\, Yuma\, AZ\, 85364\, United States
CATEGORIES:Closed
END:VEVENT
BEGIN:VEVENT
DTSTART;TZID=America/Phoenix:20261005T000000
DTEND;TZID=America/Phoenix:20261008T235959
DTSTAMP:20260422T022729
CREATED:20260205T235834Z
LAST-MODIFIED:20260205T235834Z
UID:4341-1791158400-1791503999@ympo.org
SUMMARY:YMPO Open 7:00am - 5:30pm
DESCRIPTION:
URL:https://ympo.org/wp/event/ympo-open-700am-530pm-40/
LOCATION:Yuma Metropolitan Planning Organization\, 230 W. Morrison Street\, Yuma\, AZ\, 85364\, United States
CATEGORIES:Operating Hours
END:VEVENT
BEGIN:VEVENT
DTSTART;TZID=America/Phoenix:20261008T090000
DTEND;TZID=America/Phoenix:20261008T110000
DTSTAMP:20260422T022729
CREATED:20251224T001002Z
LAST-MODIFIED:20251224T001002Z
UID:4017-1791450000-1791457200@ympo.org
SUMMARY:Technical Advisory Committee Meeting - October 8\, 2026
DESCRIPTION:The YMPO Technical Advisory Committee (TAC) will be conducting a Regular TAC meeting on October 8\, 2026. YMPO has currently opened up the In-Person Meeting and continuing the use of the Virtual presentation environment to conduct meetings. The meeting will be held In-Person and using the GoTo Meeting Platform. The information for the meeting is below. Please add the TAC Meeting to your calendar by opening and accepting the iCalendar request attached. \nTAC Packet: TAC Packet\, October 8\, 2026 \nTime: 9:00 A.M.\nDate: October 8\, 2026 \nLocation:\nYuma MPO\n230 West Morrison Street\nYuma\, AZ 85364\n \nPlease join my meeting from your computer\, tablet or smartphone.\nhttps://meet.goto.com/272237325 \nYou can also dial in using your phone. \nUnited States (Toll Free):\n1.877.309.2073 \nAccess Code:\n272-237-325 \nGet the app now and be ready when your first meeting starts:\nhttps://meet.goto.com/install \nCall-in Information: \n• For those that cannot make this meeting\, YMPO is providing an alternative method. If you need assistance in attending the meeting\, please contact YMPO below.\n• YMPO will now be using the GoTo Meeting Platform\n• If you require an alternative Language\, please contact YMPO at the number below a minimum of 48 hours in advance. \n*This email is being shared with all Yuma MPO TAC Members. Please do not Reply All to this message.* \nOpen Meetings Compliance\nNotice: To ensure compliance with the Open Meeting Law\, recipients of this message who are members of a public body should not forward it to other members of the public body. Members of the public body may reply to this message\, but they should not send a copy of the reply to other members.
URL:https://ympo.org/wp/event/technical-advisory-committee-meeting-october-8-2026/
LOCATION:Yuma Metropolitan Planning Organization\, 230 W. Morrison Street\, Yuma\, AZ\, 85364\, United States
CATEGORIES:Technical Advisory Committee Meeting
END:VEVENT
BEGIN:VEVENT
DTSTART;TZID=America/Phoenix:20261009T000000
DTEND;TZID=America/Phoenix:20261009T235959
DTSTAMP:20260422T022729
CREATED:20260121T182455Z
LAST-MODIFIED:20260206T001521Z
UID:4145-1791504000-1791590399@ympo.org
SUMMARY:YMPO Closed
DESCRIPTION:
URL:https://ympo.org/wp/event/ympo-closed-41/
LOCATION:Yuma Metropolitan Planning Organization\, 230 W. Morrison Street\, Yuma\, AZ\, 85364\, United States
CATEGORIES:Closed
END:VEVENT
BEGIN:VEVENT
DTSTART;TZID=America/Phoenix:20261012T000000
DTEND;TZID=America/Phoenix:20261015T235959
DTSTAMP:20260422T022729
CREATED:20260205T235906Z
LAST-MODIFIED:20260205T235906Z
UID:4342-1791763200-1792108799@ympo.org
SUMMARY:YMPO Open 7:00am - 5:30pm
DESCRIPTION:
URL:https://ympo.org/wp/event/ympo-open-700am-530pm-41/
LOCATION:Yuma Metropolitan Planning Organization\, 230 W. Morrison Street\, Yuma\, AZ\, 85364\, United States
CATEGORIES:Operating Hours
END:VEVENT
BEGIN:VEVENT
DTSTART;TZID=America/Phoenix:20261016T000000
DTEND;TZID=America/Phoenix:20261016T235959
DTSTAMP:20260422T022729
CREATED:20260121T182520Z
LAST-MODIFIED:20260206T001516Z
UID:4144-1792108800-1792195199@ympo.org
SUMMARY:YMPO Closed
DESCRIPTION:
URL:https://ympo.org/wp/event/ympo-closed-42/
LOCATION:Yuma Metropolitan Planning Organization\, 230 W. Morrison Street\, Yuma\, AZ\, 85364\, United States
CATEGORIES:Closed
END:VEVENT
BEGIN:VEVENT
DTSTART;TZID=America/Phoenix:20261019T000000
DTEND;TZID=America/Phoenix:20261022T235959
DTSTAMP:20260422T022729
CREATED:20260205T235943Z
LAST-MODIFIED:20260205T235943Z
UID:4343-1792368000-1792713599@ympo.org
SUMMARY:YMPO Open 7:00am - 5:30pm
DESCRIPTION:
URL:https://ympo.org/wp/event/ympo-open-700am-530pm-42/
LOCATION:Yuma Metropolitan Planning Organization\, 230 W. Morrison Street\, Yuma\, AZ\, 85364\, United States
CATEGORIES:Operating Hours
END:VEVENT
BEGIN:VEVENT
DTSTART;TZID=America/Phoenix:20261023T000000
DTEND;TZID=America/Phoenix:20261023T235959
DTSTAMP:20260422T022729
CREATED:20260121T182539Z
LAST-MODIFIED:20260206T001509Z
UID:4143-1792713600-1792799999@ympo.org
SUMMARY:YMPO Closed
DESCRIPTION:
URL:https://ympo.org/wp/event/ympo-closed-43/
LOCATION:Yuma Metropolitan Planning Organization\, 230 W. Morrison Street\, Yuma\, AZ\, 85364\, United States
CATEGORIES:Closed
END:VEVENT
BEGIN:VEVENT
DTSTART;TZID=America/Phoenix:20261026T000000
DTEND;TZID=America/Phoenix:20261029T235959
DTSTAMP:20260422T022729
CREATED:20260206T000046Z
LAST-MODIFIED:20260206T000046Z
UID:4359-1792972800-1793318399@ympo.org
SUMMARY:YMPO Open 7:00am - 5:30pm
DESCRIPTION:
URL:https://ympo.org/wp/event/ympo-open-700am-530pm-43/
LOCATION:Yuma Metropolitan Planning Organization\, 230 W. Morrison Street\, Yuma\, AZ\, 85364\, United States
CATEGORIES:Operating Hours
END:VEVENT
BEGIN:VEVENT
DTSTART;TZID=America/Phoenix:20261029T153000
DTEND;TZID=America/Phoenix:20261029T173000
DTSTAMP:20260422T022729
CREATED:20251223T235908Z
LAST-MODIFIED:20251224T000210Z
UID:3995-1793287800-1793295000@ympo.org
SUMMARY:Executive Board Meeting - October 29\, 2026
DESCRIPTION:The YMPO Executive Board will be conducting a regular meeting on Thursday\, October 29\, 2026. YMPO has currently opened up the In-Person Meeting and continues the use of the Virtual presentation environment to conduct meetings. The meeting will be held In-Person and using the GoTo Meeting Platform. The information for the meeting is below. Please add the Executive Board Meeting to your calendar by opening and accepting the iCalendar request attached. \nExecutive Board Packet: Executive Board Packet\, October 29\, 2026 \nTime: 3:30 P.M.\nDate: October 29\, 2026 \nLocation: \nYuma MPO\n230 West Morrison Street\nYuma\, AZ 85364 \nPlease join my meeting from your computer\, tablet or smartphone.\nhttps://meet.goto.com/675888245 \nYou can also dial in using your phone. \nUnited States (Toll Free):\n1.877.309.2073 \nAccess Code:\n675-888-245 \nGet the app now and be ready when your first meeting starts:\nhttps://meet.goto.com/install \nCall-in Information: \n• For those that cannot make this meeting\, YMPO is providing an alternative method. If you need assistance in attending the meeting\, please contact YMPO below.\n• YMPO will now be using the GoTo Meeting Platform\n• If you require an alternative Language\, please contact YMPO at the number below a minimum of 48 hours in advance. \n*This email is being shared with all Yuma MPO Executive Board Members. Please do not Reply All to this message.* \nOpen Meetings Compliance\nNotice: To ensure compliance with the Open Meeting Law\, recipients of this message who are members of a public body should not forward it to other members of the public body. Members of the public body may reply to this message\, but they should not send a copy of the reply to other members.
URL:https://ympo.org/wp/event/executive-board-meeting-october-29-2026/
LOCATION:Yuma Metropolitan Planning Organization\, 230 W. Morrison Street\, Yuma\, AZ\, 85364\, United States
CATEGORIES:Executive Board Meeting
END:VEVENT
BEGIN:VEVENT
DTSTART;TZID=America/Phoenix:20261030T000000
DTEND;TZID=America/Phoenix:20261030T235959
DTSTAMP:20260422T022729
CREATED:20260121T182555Z
LAST-MODIFIED:20260206T001459Z
UID:4142-1793318400-1793404799@ympo.org
SUMMARY:YMPO Closed
DESCRIPTION:
URL:https://ympo.org/wp/event/ympo-closed-44/
LOCATION:Yuma Metropolitan Planning Organization\, 230 W. Morrison Street\, Yuma\, AZ\, 85364\, United States
CATEGORIES:Closed
END:VEVENT
END:VCALENDAR